BEGIN:VCALENDAR
VERSION:2.0
PRODID:-//Tukios.com/
BEGIN:VEVENT
UID:40144077-152e-4e36-8486-1b55c812c3fc@www.bradleybanderson.com
DTSTAMP:20260420T234022Z
DTSTART:20260422T170000Z
DTEND:20260422T180000Z
SUMMARY:Visitation
DESCRIPTION:
URL:https://www.bradleybanderson.com/obituaries/frances-holland
LOCATION:Low Country Cremation and Burial 124 Jordan Street  Reidsville 
	GA 30453
GEO:32.0886332;-82.1194274
END:VEVENT
END:VCALENDAR