BEGIN:VCALENDAR
VERSION:2.0
PRODID:-//Tukios.com/
BEGIN:VEVENT
UID:856c8357-c31f-4e7a-9727-37c8712cef18@www.bradleybanderson.com
DTSTAMP:20260420T234145Z
DTSTART:20260422T180000Z
DTEND:20260422T190000Z
SUMMARY:Funeral Service
DESCRIPTION:
URL:https://www.bradleybanderson.com/obituaries/frances-holland
LOCATION:Low Country Cremation and Burial 124 Jordan Street  Reidsville 
	GA 30453
GEO:32.0886332;-82.1194274
END:VEVENT
END:VCALENDAR