BEGIN:VCALENDAR
VERSION:2.0
PRODID:-//Tukios.com/
BEGIN:VEVENT
UID:b34b899a-cf35-482a-8ca2-4d0b722f896e@www.bradleybanderson.com
DTSTAMP:20260422T201951Z
DTSTART:20260424T180000Z
DTEND:20260424T190000Z
SUMMARY:Burial
DESCRIPTION:
URL:https://www.bradleybanderson.com/obituaries/jack-davis-jr
LOCATION:Providence Baptist Church Cemetery 982 Providence Church Road  
	Lyons GA 30436
GEO:31.9614923;-82.2656577
END:VEVENT
END:VCALENDAR