BEGIN:VCALENDAR
VERSION:2.0
PRODID:-//Tukios.com/
BEGIN:VEVENT
UID:e557bf50-a0f7-42a9-97dd-535107da051c@www.bradleybanderson.com
DTSTAMP:20260422T175148Z
DTSTART:20260424T220000Z
DTEND:20260425T000000Z
SUMMARY:Visitation
DESCRIPTION:
URL:https://www.bradleybanderson.com/obituaries/veronica-mcrae
LOCATION: 124 Jordan Street  Reidsville GA 30453
GEO:32.0886332;-82.1194274
END:VEVENT
END:VCALENDAR