BEGIN:VCALENDAR
VERSION:2.0
PRODID:-//Tukios.com/
BEGIN:VEVENT
UID:17a40468-4097-45a3-aa6b-c6e910245b66@www.bradleybanderson.com
DTSTAMP:20260422T174645Z
DTSTART:20260425T160000Z
DTEND:20260425T170000Z
SUMMARY:Funeral Service
DESCRIPTION:
URL:https://www.bradleybanderson.com/obituaries/veronica-mcrae
LOCATION: 151 Oak Street  Reidsville GA 30453
GEO:32.0804982;-82.1165003
END:VEVENT
END:VCALENDAR