BEGIN:VCALENDAR
VERSION:2.0
PRODID:-//Tukios.com/
BEGIN:VEVENT
UID:51a31a64-61ea-4273-970d-d31a6cde1579@www.bradleybanderson.com
DTSTAMP:20260422T174517Z
DTSTART:20260427T170000Z
DTEND:20260427T180000Z
SUMMARY:Graveside Service
DESCRIPTION:
URL:https://www.bradleybanderson.com/obituaries/veronica-mcrae
LOCATION: 8819 US-301  Glennville GA 30427
GEO:31.9585908;-81.9272231
END:VEVENT
END:VCALENDAR