BEGIN:VCALENDAR
VERSION:2.0
PRODID:-//Tukios.com/
BEGIN:VEVENT
UID:72d6c5ae-5392-4781-8b24-a4345de8039e@www.bradleybanderson.com
DTSTAMP:20260424T215144Z
DTSTART:20260427T170000Z
DTEND:20260427T180000Z
SUMMARY:Visitation
DESCRIPTION:
URL:https://www.bradleybanderson.com/obituaries/zarai-kalweit
LOCATION: 124 Jordan Street  Reidsville GA 30453
GEO:32.0886332;-82.1194274
END:VEVENT
END:VCALENDAR