BEGIN:VCALENDAR
VERSION:2.0
PRODID:-//Tukios.com/
BEGIN:VEVENT
UID:4a945a3f-a4a9-4e9d-a068-4b21a67c9b3b@www.bradleybanderson.com
DTSTAMP:20260424T215424Z
DTSTART:20260427T180000Z
DTEND:20260427T190000Z
SUMMARY:Funeral Service
DESCRIPTION:
URL:https://www.bradleybanderson.com/obituaries/zarai-kalweit
LOCATION: 124 Jordan Street  Reidsville GA 30453
GEO:32.0886332;-82.1194274
END:VEVENT
END:VCALENDAR